BEGIN:VCALENDAR
VERSION:2.0
PRODID:Carson City Calendar Creator
METHOD:PUBLISH
BEGIN:VEVENT
DTSTAMP:20230207T145911
DTSTART:20230214T143000
DTEND:20230214T160000
SUMMARY:Debt Management Commission
DESCRIPTION:<p><a href="https://www.carsoncity.gov/home/showpublisheddocument/83894/638803147136130000" target="_blank">Agenda</a></p><p><a href="https://www.carsoncity.gov/home/showpublisheddocument/83711/638103447961100000" target="_blank">Draft Minutes</a></p><p><a href="https://www.carsoncity.gov/home/showpublisheddocument/83713/638103448241470000" target="_blank">Support material</a>&nbsp;</p>
X-ALT-DESC;FMTTYPE=text/html:<p><a href="https://www.carsoncity.gov/home/showpublisheddocument/83894/638803147136130000" target="_blank">Agenda</a></p><p><a href="https://www.carsoncity.gov/home/showpublisheddocument/83711/638103447961100000" target="_blank">Draft Minutes</a></p><p><a href="https://www.carsoncity.gov/home/showpublisheddocument/83713/638103448241470000" target="_blank">Support material</a>&nbsp;</p>
LOCATION:Community Center\, Robert "Bob" Crowell Board Room\, 851 East William Street Carson City\, Nevada 89701
CLASS:PUBLIC
END:VEVENT
END:VCALENDAR
