BEGIN:VCALENDAR
VERSION:2.0
PRODID:Carson City Calendar Creator
METHOD:PUBLISH
BEGIN:VEVENT
DTSTAMP:20231205T123652
DTSTART:20231211T180000
DTEND:20231211T200000
SUMMARY:Cultural Commission Meeting
DESCRIPTION:<p><a href="https://www.carsoncity.gov/government/city-meetings">Webcast</a></p><p><a href="https://www.carsoncity.gov/?navid=8336">Agenda with Supporting Materials</a></p>
X-ALT-DESC;FMTTYPE=text/html:<p><a href="https://www.carsoncity.gov/government/city-meetings">Webcast</a></p><p><a href="https://www.carsoncity.gov/?navid=8336">Agenda with Supporting Materials</a></p>
LOCATION:Community Center\, Robert "Bob" Crowell Board Room\, 851 East William Street Carson City\, Nevada 89701
CLASS:PUBLIC
END:VEVENT
END:VCALENDAR
