BEGIN:VCALENDAR
VERSION:2.0
PRODID:Carson City Calendar Creator
METHOD:PUBLISH
BEGIN:VEVENT
DTSTAMP:20230206T085248
DTSTART:20230209T173000
DTEND:20230209T235900
SUMMARY:Library Board of Trustees Meeting
DESCRIPTION:<a href="https://carsoncitylibrary.org/board-meetings/" target="_blank">Agendas with Support Materials</a>
X-ALT-DESC;FMTTYPE=text/html:<a href="https://carsoncitylibrary.org/board-meetings/" target="_blank">Agendas with Support Materials</a>
LOCATION:Bonanza Room\, 851 East William Carson City\, Nevada 89701
CLASS:PUBLIC
END:VEVENT
END:VCALENDAR
