BEGIN:VCALENDAR
VERSION:2.0
PRODID:Carson City Calendar Creator
METHOD:PUBLISH
BEGIN:VEVENT
DTSTAMP:20230719T162214
DTSTART:20230726T170000
DTEND:20230726T233000
SUMMARY:Planning Commission
DESCRIPTION:<p><a href="https://www.carsoncity.gov/government/city-meetings">Webcast</a></p><p><a href="https://www.carsoncity.gov/government/city-meetings-live-broadcast-and-archives/agendas/planning-commission-agendas-with-supporting-materials/2023-planning-commission-agenda-with-supporting-materials/7-26-2023-planning-commission-agenda-with-supporting-material">7.26.2023 Planning Commission Agenda with Supporting Material</a></p>
X-ALT-DESC;FMTTYPE=text/html:<p><a href="https://www.carsoncity.gov/government/city-meetings">Webcast</a></p><p><a href="https://www.carsoncity.gov/government/city-meetings-live-broadcast-and-archives/agendas/planning-commission-agendas-with-supporting-materials/2023-planning-commission-agenda-with-supporting-materials/7-26-2023-planning-commission-agenda-with-supporting-material">7.26.2023 Planning Commission Agenda with Supporting Material</a></p>
LOCATION:Community Center\, Robert "Bob" Crowell Board Room\, 851 East William Street Carson City\, Nevada 89701
CLASS:PUBLIC
END:VEVENT
END:VCALENDAR
