BEGIN:VCALENDAR
VERSION:2.0
PRODID:Carson City Calendar Creator
METHOD:PUBLISH
BEGIN:VEVENT
DTSTAMP:20230821T105408
DTSTART:20230830T160000
DTEND:20230830T233000
SUMMARY:Planning Commission Workshop
DESCRIPTION:&nbsp;<a href="https://www.carsoncity.gov/government/city-meetings-live-broadcast-and-archives/agendas/planning-commission-agendas-with-supporting-materials/2023-planning-commission-agenda-with-supporting-materials/8-30-2023-planning-commission-workshop">Workshop Agenda with Supporting Material</a>
X-ALT-DESC;FMTTYPE=text/html:&nbsp;<a href="https://www.carsoncity.gov/government/city-meetings-live-broadcast-and-archives/agendas/planning-commission-agendas-with-supporting-materials/2023-planning-commission-agenda-with-supporting-materials/8-30-2023-planning-commission-workshop">Workshop Agenda with Supporting Material</a>
LOCATION:Community Center Bonanza Room\, 851 East William Street Carson City\, Nevada 89701
CLASS:PUBLIC
END:VEVENT
END:VCALENDAR
