BEGIN:VCALENDAR
VERSION:2.0
PRODID:Carson City Calendar Creator
METHOD:PUBLISH
BEGIN:VEVENT
DTSTAMP:20230222T082932
DTSTART:20230303T081500
DTEND:20230303T235900
SUMMARY:Joint Work Session Meeting of the Board of Supervisors and the Planning Commission
DESCRIPTION:<a href="https://www.carsoncity.gov/home/showpublisheddocument/84070/638125972630930000" target="_blank">Agenda</a> and <a href="https://www.carsoncity.gov/home/showpublisheddocument/84072/638126511520830000" target="_blank">Supporting Materials</a>
X-ALT-DESC;FMTTYPE=text/html:<a href="https://www.carsoncity.gov/home/showpublisheddocument/84070/638125972630930000" target="_blank">Agenda</a> and <a href="https://www.carsoncity.gov/home/showpublisheddocument/84072/638126511520830000" target="_blank">Supporting Materials</a>
LOCATION:Western Nevada College - Nugget Hall\, 2201 W. College Parkway Carson City\, Nevada 89703
CLASS:PUBLIC
END:VEVENT
END:VCALENDAR
