BEGIN:VCALENDAR
VERSION:2.0
PRODID:Carson City Calendar Creator
METHOD:PUBLISH
BEGIN:VEVENT
DTSTAMP:20230303T151112
DTSTART:20230306T173000
DTEND:20230306T193000
SUMMARY:Advisory Board to Manage Wildlife
DESCRIPTION:<p><a href="https://www.carsoncity.gov/home/showpublisheddocument/84134/638131692606100000" target="_blank">Advisory Board to Manage Wildlife Agenda</a></p><p><a href="https://www.carsoncity.gov/home/showpublisheddocument/84164/638133452168200000" target="_blank">Supporting Materials</a></p><p><a href="https://www.carsoncity.gov/home/showpublisheddocument/84140/638132558240500000" target="_blank">10-31-2022 Draft Minutes</a></p><p>&nbsp;</p>
X-ALT-DESC;FMTTYPE=text/html:<p><a href="https://www.carsoncity.gov/home/showpublisheddocument/84134/638131692606100000" target="_blank">Advisory Board to Manage Wildlife Agenda</a></p><p><a href="https://www.carsoncity.gov/home/showpublisheddocument/84164/638133452168200000" target="_blank">Supporting Materials</a></p><p><a href="https://www.carsoncity.gov/home/showpublisheddocument/84140/638132558240500000" target="_blank">10-31-2022 Draft Minutes</a></p><p>&nbsp;</p>
LOCATION:
CLASS:PUBLIC
END:VEVENT
END:VCALENDAR
