BEGIN:VCALENDAR
VERSION:2.0
PRODID:Carson City Calendar Creator
METHOD:PUBLISH
BEGIN:VEVENT
DTSTAMP:20230301T095345
DTSTART:20230309T173000
DTEND:20230309T223000
SUMMARY:Historic Recourses Commission
DESCRIPTION:<p><a href="https://www.carsoncity.gov/government/city-meetings-live-broadcast-and-archives/agendas/historic-resources-commission-agendas-with-supporting-materials/2023-hrc-agendas-with-supporting-material/3-9-2023-historic-resources-commission-agenda-with-supporting-materials">03.09.2023 Agenda with Supporting Material</a></p><p><a href="https://www.carsoncity.gov/our-city/city-meetings-agendas-minutes-and-broadcast">Webcast&nbsp;</a></p>
X-ALT-DESC;FMTTYPE=text/html:<p><a href="https://www.carsoncity.gov/government/city-meetings-live-broadcast-and-archives/agendas/historic-resources-commission-agendas-with-supporting-materials/2023-hrc-agendas-with-supporting-material/3-9-2023-historic-resources-commission-agenda-with-supporting-materials">03.09.2023 Agenda with Supporting Material</a></p><p><a href="https://www.carsoncity.gov/our-city/city-meetings-agendas-minutes-and-broadcast">Webcast&nbsp;</a></p>
LOCATION:Community Center\, Robert "Bob" Crowell Board Room\, 851 East William Street Carson City\, Nevada 89701
CLASS:PUBLIC
END:VEVENT
END:VCALENDAR
