BEGIN:VCALENDAR
VERSION:2.0
PRODID:Carson City Calendar Creator
METHOD:PUBLISH
BEGIN:VEVENT
DTSTAMP:20230302T150657
DTSTART:20230308T163000
DTEND:20230308T183000
SUMMARY:Carson Area Metropolitan Planning Organization
DESCRIPTION:<div><p><a href="https://www.carsoncity.gov/home/showpublisheddocument/84178/638133655310300000" target="_blank">CAMPO Agenda with Supporting Materials</a></p><p data-uw-styling-context="true"><a href="https://www.carsoncity.gov/government/city-meetings" data-uw-styling-context="true">Livestream</a></p><p data-uw-styling-context="true"><a href="https://www.carsoncity.gov/home/showpublisheddocument/84176/638133653927300000" target="_blank">Agenda: CAMPO 3/8/23</a></p></div>
X-ALT-DESC;FMTTYPE=text/html:<div><p><a href="https://www.carsoncity.gov/home/showpublisheddocument/84178/638133655310300000" target="_blank">CAMPO Agenda with Supporting Materials</a></p><p data-uw-styling-context="true"><a href="https://www.carsoncity.gov/government/city-meetings" data-uw-styling-context="true">Livestream</a></p><p data-uw-styling-context="true"><a href="https://www.carsoncity.gov/home/showpublisheddocument/84176/638133653927300000" target="_blank">Agenda: CAMPO 3/8/23</a></p></div>
LOCATION:Community Center\, Robert "Bob" Crowell Board Room\, 851 East William Street Carson City\, Nevada 89701
CLASS:PUBLIC
END:VEVENT
END:VCALENDAR
