BEGIN:VCALENDAR
VERSION:2.0
PRODID:Carson City Calendar Creator
METHOD:PUBLISH
BEGIN:VEVENT
DTSTAMP:20230304T153815
DTSTART:20230309T173000
DTEND:20230309T235900
SUMMARY:Library Board of Trustees Meeting
DESCRIPTION:
X-ALT-DESC;FMTTYPE=text/html:
LOCATION:Community Center\, Bob Boldrick Theater\, 851 East William Street Carson City\, Nevada 89701-3123
CLASS:PUBLIC
END:VEVENT
END:VCALENDAR
