BEGIN:VCALENDAR
VERSION:2.0
PRODID:Carson City Calendar Creator
METHOD:PUBLISH
BEGIN:VEVENT
DTSTAMP:20230504T162613
DTSTART:20230510T163000
DTEND:20230510T193000
SUMMARY:Carson Area Metropolitan Planning Organization
DESCRIPTION:<div><a>Add to my Calendar</a></div><div><div><p><a href="https://www.carsoncity.gov/home/showpublisheddocument/85753/638188141640570000" target="_blank">CAMPO Agenda with Supporting Materials</a></p><p data-uw-styling-context="true"><a href="https://www.carsoncity.gov/government/city-meetings" data-uw-styling-context="true">Livestream</a></p><p data-uw-styling-context="true"><a href="https://www.carsoncity.gov/home/showpublisheddocument/85741/638188073584600000" target="_blank">Agenda: CAMPO 5/10/23</a></p></div></div>
X-ALT-DESC;FMTTYPE=text/html:<div><a>Add to my Calendar</a></div><div><div><p><a href="https://www.carsoncity.gov/home/showpublisheddocument/85753/638188141640570000" target="_blank">CAMPO Agenda with Supporting Materials</a></p><p data-uw-styling-context="true"><a href="https://www.carsoncity.gov/government/city-meetings" data-uw-styling-context="true">Livestream</a></p><p data-uw-styling-context="true"><a href="https://www.carsoncity.gov/home/showpublisheddocument/85741/638188073584600000" target="_blank">Agenda: CAMPO 5/10/23</a></p></div></div>
LOCATION:Community Center\, Robert "Bob" Crowell Board Room\, 851 East William Street Carson City\, Nevada 89701
CLASS:PUBLIC
END:VEVENT
END:VCALENDAR
