BEGIN:VCALENDAR
VERSION:2.0
PRODID:Carson City Calendar Creator
METHOD:PUBLISH
BEGIN:VEVENT
DTSTAMP:20230407T174643
DTSTART:20230413T000000
DTEND:20230413T173000
SUMMARY:Library Board of Trustees Meeting
DESCRIPTION:<a href="https://carsoncitylibrary.org/board-meetings/" target="_blank">Agenda and Supporting Materials</a>
X-ALT-DESC;FMTTYPE=text/html:<a href="https://carsoncitylibrary.org/board-meetings/" target="_blank">Agenda and Supporting Materials</a>
LOCATION:Carson City Library\, Digitorium\, 900 N. Roop St. Carson City\, Nevada 89701
CLASS:PUBLIC
END:VEVENT
END:VCALENDAR
