BEGIN:VCALENDAR
VERSION:2.0
PRODID:Carson City Calendar Creator
METHOD:PUBLISH
BEGIN:VEVENT
DTSTAMP:20230413T110844
DTSTART:20230509T173000
DTEND:20230509T193000
SUMMARY:Parent Education Night
DESCRIPTION:
X-ALT-DESC;FMTTYPE=text/html:
LOCATION:Carson City Juvenile Services Classroom\, 740 S. Saliman Road Carson City\, Nevada 89701
CLASS:PUBLIC
END:VEVENT
END:VCALENDAR
