BEGIN:VCALENDAR
VERSION:2.0
PRODID:Carson City Calendar Creator
METHOD:PUBLISH
BEGIN:VEVENT
DTSTAMP:20230523T094020
DTSTART:20230614T163000
DTEND:20230614T193000
SUMMARY:Carson Area Metropolitan Planning Organization***CANCELLED***
DESCRIPTION:<div>&nbsp;The June 14, 2023 meeting of the Carson Area Metropolitan Planning Organization, or CAMPO is cancelled. CAMPO will resume regular monthly meetings on July 12, 2023.</div>
X-ALT-DESC;FMTTYPE=text/html:<div>&nbsp;The June 14, 2023 meeting of the Carson Area Metropolitan Planning Organization, or CAMPO is cancelled. CAMPO will resume regular monthly meetings on July 12, 2023.</div>
LOCATION:Community Center\, Robert "Bob" Crowell Board Room\, 851 East William Street Carson City\, Nevada 89701
CLASS:PUBLIC
END:VEVENT
END:VCALENDAR
