BEGIN:VCALENDAR
VERSION:2.0
PRODID:Carson City Calendar Creator
METHOD:PUBLISH
BEGIN:VEVENT
DTSTAMP:20230609T071231
DTSTART:20230614T163000
DTEND:20230614T193000
SUMMARY:Regional Transportation Commission
DESCRIPTION:<div><p><a href="https://www.carsoncity.gov/home/showpublisheddocument/86051/638218913263870000" target="_blank">RTC Agenda with Supporting Materials</a></p><p data-uw-styling-context="true"><a href="https://www.carsoncity.gov/government/city-meetings" data-uw-styling-context="true">Livestream</a></p><p data-uw-styling-context="true"><a href="https://www.carsoncity.gov/home/showpublisheddocument/86049/638218911718500000" target="_blank">Agenda: RTC 6/14/23</a></p></div>
X-ALT-DESC;FMTTYPE=text/html:<div><p><a href="https://www.carsoncity.gov/home/showpublisheddocument/86051/638218913263870000" target="_blank">RTC Agenda with Supporting Materials</a></p><p data-uw-styling-context="true"><a href="https://www.carsoncity.gov/government/city-meetings" data-uw-styling-context="true">Livestream</a></p><p data-uw-styling-context="true"><a href="https://www.carsoncity.gov/home/showpublisheddocument/86049/638218911718500000" target="_blank">Agenda: RTC 6/14/23</a></p></div>
LOCATION:Community Center\, Robert "Bob" Crowell Board Room\, 851 East William Street Carson City\, Nevada 89701
CLASS:PUBLIC
END:VEVENT
END:VCALENDAR
