BEGIN:VCALENDAR
VERSION:2.0
PRODID:Carson City Calendar Creator
METHOD:PUBLISH
BEGIN:VEVENT
DTSTAMP:20230425T084353
DTSTART:20230428T093000
DTEND:20230428T113000
SUMMARY:Liquor Hearing
DESCRIPTION:<p><a href="https://www.carsoncity.gov/government/city-meetings">Webcast</a></p><p><a href="https://www.carsoncity.gov/government/city-meetings-live-broadcast-and-archives/agendas/liquor-hearing-agendas-with-supporting-materials/2023-agenda-with-supporting-materials/04-28-2023-agenda-with-supporting-material">4.28.2023 Agenda with Supporting Material&nbsp;</a></p>
X-ALT-DESC;FMTTYPE=text/html:<p><a href="https://www.carsoncity.gov/government/city-meetings">Webcast</a></p><p><a href="https://www.carsoncity.gov/government/city-meetings-live-broadcast-and-archives/agendas/liquor-hearing-agendas-with-supporting-materials/2023-agenda-with-supporting-materials/04-28-2023-agenda-with-supporting-material">4.28.2023 Agenda with Supporting Material&nbsp;</a></p>
LOCATION:
CLASS:PUBLIC
END:VEVENT
END:VCALENDAR
