BEGIN:VCALENDAR
VERSION:2.0
PRODID:Carson City Calendar Creator
METHOD:PUBLISH
BEGIN:VEVENT
DTSTAMP:20230523T165028
DTSTART:20230614T173000
DTEND:20230614T193000
SUMMARY:Parent Education Night
DESCRIPTION:<div align="center" style="text-align: left;"> <strong>JOIN US FOR AN INFORMATIVE NIGHT ABOUT SUBSTANCE USE AMONG OUR YOUTH</strong></div><p align="center" style="text-align: left;">This event will go in-depth about Substance Use and our youth in the community. It will also give Parents/ Guardians/Community Members the opportunity to learn more about substances, and how to be proactive with our youth. If you want more information about talking to your youth about substance use, this night is for you!</p><p align="center" style="text-align: left;"><em>To RSVP or if you have any questions, please contact Michelle Entz at 775-283-7640 or email at mentz@carsoncity.gov.&nbsp;</em></p>
X-ALT-DESC;FMTTYPE=text/html:<div align="center" style="text-align: left;"> <strong>JOIN US FOR AN INFORMATIVE NIGHT ABOUT SUBSTANCE USE AMONG OUR YOUTH</strong></div><p align="center" style="text-align: left;">This event will go in-depth about Substance Use and our youth in the community. It will also give Parents/ Guardians/Community Members the opportunity to learn more about substances, and how to be proactive with our youth. If you want more information about talking to your youth about substance use, this night is for you!</p><p align="center" style="text-align: left;"><em>To RSVP or if you have any questions, please contact Michelle Entz at 775-283-7640 or email at mentz@carsoncity.gov.&nbsp;</em></p>
LOCATION:Carson City Juvenile Services: Probation Office\, 740 S. Saliman Road Carson City\, Nevada 89701
CLASS:PUBLIC
END:VEVENT
END:VCALENDAR
