BEGIN:VCALENDAR
VERSION:2.0
PRODID:Carson City Calendar Creator
METHOD:PUBLISH
BEGIN:VEVENT
DTSTAMP:20230524T164404
DTSTART:20230531T140000
DTEND:20230531T160000
SUMMARY:Planning Commission Workshop
DESCRIPTION:<a href="https://www.carsoncity.gov/government/city-meetings-live-broadcast-and-archives/agendas/planning-commission-agendas-with-supporting-materials/2023-agenda-with-supporting-materials/5-31-2023-planning-commission-workshop">5.31.2023 Agenda with Supporting Material</a>
X-ALT-DESC;FMTTYPE=text/html:<a href="https://www.carsoncity.gov/government/city-meetings-live-broadcast-and-archives/agendas/planning-commission-agendas-with-supporting-materials/2023-agenda-with-supporting-materials/5-31-2023-planning-commission-workshop">5.31.2023 Agenda with Supporting Material</a>
LOCATION:Community Center Bonanza Room\, 851 East William Street Carson City\, Nevada 89701
CLASS:PUBLIC
END:VEVENT
END:VCALENDAR
