BEGIN:VCALENDAR
VERSION:2.0
PRODID:Carson City Calendar Creator
METHOD:PUBLISH
BEGIN:VEVENT
DTSTAMP:20230615T094425
DTSTART:20230711T173000
DTEND:20230711T193000
SUMMARY:Shining Light on Child Sexual Abuse, Exploitation and Human Trafficking
DESCRIPTION:For more information about this event, contact Michelle Entz with Carson City Juvenile Services at 775-283-7640 or email at mentz@carsoncity.gov&nbsp;
X-ALT-DESC;FMTTYPE=text/html:For more information about this event, contact Michelle Entz with Carson City Juvenile Services at 775-283-7640 or email at mentz@carsoncity.gov&nbsp;
LOCATION:Carson City Sheriff's Office Ormsby Room\, 911 East Musser Street Carson City\, Nevada 89701
CLASS:PUBLIC
END:VEVENT
END:VCALENDAR
