BEGIN:VCALENDAR
VERSION:2.0
PRODID:Carson City Calendar Creator
METHOD:PUBLISH
BEGIN:VEVENT
DTSTAMP:20230815T153328
DTSTART:20230822T133000
DTEND:20230822T160000
SUMMARY:Debt Management Commission
DESCRIPTION:<p><a href="https://www.carsoncity.gov/home/showpublisheddocument/86776/638277094873470000" target="_blank">8-22-23 Agenda</a></p><p><a href="https://www.carsoncity.gov/home/showpublisheddocument/86699/638270819471800000" target="_blank">2-14-23 Draft Minutes</a></p><p><a href="https://www.carsoncity.gov/home/showpublisheddocument/86778/638277095203170000" target="_blank">Agenda Item D-1</a></p><p><a href="https://www.carsoncity.gov/home/showpublisheddocument/86780/638277097051330000" target="_blank">Agenda Item D-2</a></p><p><a href="https://www.carsoncity.gov/home/showpublisheddocument/86772/638277076731200000" target="_blank">Agenda Item E</a></p><p><a href="https://www.carsoncity.gov/home/showpublisheddocument/86792/638277101809230000" target="_blank">Agenda Item F</a></p><p><a href="https://www.carsoncity.gov/home/showpublisheddocument/86794/638277103597070000" target="_blank">Agenda Item G</a></p><p><a href="https://www.carsoncity.gov/home/showpublisheddocument/86784/638277097626470000" target="_blank">Agenda Item H</a></p><p>&nbsp;</p>
X-ALT-DESC;FMTTYPE=text/html:<p><a href="https://www.carsoncity.gov/home/showpublisheddocument/86776/638277094873470000" target="_blank">8-22-23 Agenda</a></p><p><a href="https://www.carsoncity.gov/home/showpublisheddocument/86699/638270819471800000" target="_blank">2-14-23 Draft Minutes</a></p><p><a href="https://www.carsoncity.gov/home/showpublisheddocument/86778/638277095203170000" target="_blank">Agenda Item D-1</a></p><p><a href="https://www.carsoncity.gov/home/showpublisheddocument/86780/638277097051330000" target="_blank">Agenda Item D-2</a></p><p><a href="https://www.carsoncity.gov/home/showpublisheddocument/86772/638277076731200000" target="_blank">Agenda Item E</a></p><p><a href="https://www.carsoncity.gov/home/showpublisheddocument/86792/638277101809230000" target="_blank">Agenda Item F</a></p><p><a href="https://www.carsoncity.gov/home/showpublisheddocument/86794/638277103597070000" target="_blank">Agenda Item G</a></p><p><a href="https://www.carsoncity.gov/home/showpublisheddocument/86784/638277097626470000" target="_blank">Agenda Item H</a></p><p>&nbsp;</p>
LOCATION:Community Center\, Robert "Bob" Crowell Board Room\, 851 East William Street Carson City\, Nevada 89701
CLASS:PUBLIC
END:VEVENT
END:VCALENDAR
