BEGIN:VCALENDAR
VERSION:2.0
PRODID:Carson City Calendar Creator
METHOD:PUBLISH
BEGIN:VEVENT
DTSTAMP:20230712T073301
DTSTART:20230712T163000
DTEND:20230712T190000
SUMMARY:Carson Area Metropolitan Planning Organization
DESCRIPTION:<p><a href="https://www.carsoncity.gov/home/showpublisheddocument/86323/638242630680370000" target="_blank">CAMPO Agenda with Supporting Materials</a></p><p data-uw-styling-context="true"><a href="https://www.carsoncity.gov/government/city-meetings" data-uw-styling-context="true">Livestream</a></p><p data-uw-styling-context="true"><a href="https://www.carsoncity.gov/home/showpublisheddocument/86319/638242627565930000" target="_blank">Agenda: CAMPO 7/12/2023</a></p><p data-uw-styling-context="true"><a href="https://www.carsoncity.gov/home/showpublisheddocument/86373/638247438949630000" target="_blank">CAMPO Late Material - Item 5D</a></p>
X-ALT-DESC;FMTTYPE=text/html:<p><a href="https://www.carsoncity.gov/home/showpublisheddocument/86323/638242630680370000" target="_blank">CAMPO Agenda with Supporting Materials</a></p><p data-uw-styling-context="true"><a href="https://www.carsoncity.gov/government/city-meetings" data-uw-styling-context="true">Livestream</a></p><p data-uw-styling-context="true"><a href="https://www.carsoncity.gov/home/showpublisheddocument/86319/638242627565930000" target="_blank">Agenda: CAMPO 7/12/2023</a></p><p data-uw-styling-context="true"><a href="https://www.carsoncity.gov/home/showpublisheddocument/86373/638247438949630000" target="_blank">CAMPO Late Material - Item 5D</a></p>
LOCATION:Community Center\, Robert "Bob" Crowell Board Room\, 851 East William Street Carson City\, Nevada 89701
CLASS:PUBLIC
END:VEVENT
END:VCALENDAR
