BEGIN:VCALENDAR
VERSION:2.0
PRODID:Carson City Calendar Creator
METHOD:PUBLISH
BEGIN:VEVENT
DTSTAMP:20230717T113701
DTSTART:20230809T163000
DTEND:20230809T190000
SUMMARY:Carson Area Metropolitan Planning Organization **Meeting Cancelled**
DESCRIPTION:<p>The August CAMPO Meeting is cancelled and will resume September 13, 2023.</p>
X-ALT-DESC;FMTTYPE=text/html:<p>The August CAMPO Meeting is cancelled and will resume September 13, 2023.</p>
LOCATION:Community Center\, Robert "Bob" Crowell Board Room\, 851 East William Street Carson City\, Nevada 89701
CLASS:PUBLIC
END:VEVENT
END:VCALENDAR
