BEGIN:VCALENDAR
VERSION:2.0
PRODID:Carson City Calendar Creator
METHOD:PUBLISH
BEGIN:VEVENT
DTSTAMP:20230717T114150
DTSTART:20230809T163000
DTEND:20230809T190000
SUMMARY:Regional Transportation Commission **Meeting Cancelled**
DESCRIPTION:<p>The regularly scheduled August RTC meeting is cancelled. There will be a Special Meeting of the RTC on August 16, 2023 at 4:00pm in the Robert "Bob" Crowell Board Room at the Carson City Community Center.</p>
X-ALT-DESC;FMTTYPE=text/html:<p>The regularly scheduled August RTC meeting is cancelled. There will be a Special Meeting of the RTC on August 16, 2023 at 4:00pm in the Robert "Bob" Crowell Board Room at the Carson City Community Center.</p>
LOCATION:Community Center\, Robert "Bob" Crowell Board Room\, 851 East William Street Carson City\, Nevada 89701
CLASS:PUBLIC
END:VEVENT
END:VCALENDAR
