BEGIN:VCALENDAR
VERSION:2.0
PRODID:Carson City Calendar Creator
METHOD:PUBLISH
BEGIN:VEVENT
DTSTAMP:20230708T135409
DTSTART:20230713T000000
DTEND:20230713T235900
SUMMARY:Library Board of Trustees Meeting
DESCRIPTION:<a href="https://carsoncitylibrary.org/board-meetings/" target="_blank">https://carsoncitylibrary.org/board-meetings/</a>
X-ALT-DESC;FMTTYPE=text/html:<a href="https://carsoncitylibrary.org/board-meetings/" target="_blank">https://carsoncitylibrary.org/board-meetings/</a>
LOCATION:
CLASS:PUBLIC
END:VEVENT
END:VCALENDAR
