BEGIN:VCALENDAR
VERSION:2.0
PRODID:Carson City Calendar Creator
METHOD:PUBLISH
BEGIN:VEVENT
DTSTAMP:20230719T143659
DTSTART:20230726T133000
DTEND:20230726T143000
SUMMARY:Administrative Hearing
DESCRIPTION:<a href="https://www.carsoncity.gov/government/city-meetings-live-broadcast-and-archives/agendas/administrative-permit-review-agendas-with-supporting-materials/2023-agenda-with-supporting-materials/7-26-2023-admin-agenda-with-supporting-material">Staff Report with Supporting Material&nbsp;</a>
X-ALT-DESC;FMTTYPE=text/html:<a href="https://www.carsoncity.gov/government/city-meetings-live-broadcast-and-archives/agendas/administrative-permit-review-agendas-with-supporting-materials/2023-agenda-with-supporting-materials/7-26-2023-admin-agenda-with-supporting-material">Staff Report with Supporting Material&nbsp;</a>
LOCATION:Community Development\, Conference Room "A"\, 108 E. Proctor Street Carson City\, Nevada 89701
CLASS:PUBLIC
END:VEVENT
END:VCALENDAR
