BEGIN:VCALENDAR
VERSION:2.0
PRODID:Carson City Calendar Creator
METHOD:PUBLISH
BEGIN:VEVENT
DTSTAMP:20230717T143209
DTSTART:20230719T173000
DTEND:20230719T193000
SUMMARY:Parent Education Night
DESCRIPTION:<p>Come join Carson City Juvenile Services Parent Education Night for an informative event about our youth in Carson City! The presentation will be in English for this event on July 19th!</p><p>Hope to see you there!</p>
X-ALT-DESC;FMTTYPE=text/html:<p>Come join Carson City Juvenile Services Parent Education Night for an informative event about our youth in Carson City! The presentation will be in English for this event on July 19th!</p><p>Hope to see you there!</p>
LOCATION:Carson City Juvenile Services: Probation Office\, 740 S. Saliman Road Carson City\, Nevada 89701
CLASS:PUBLIC
END:VEVENT
END:VCALENDAR
