BEGIN:VCALENDAR
VERSION:2.0
PRODID:Carson City Calendar Creator
METHOD:PUBLISH
BEGIN:VEVENT
DTSTAMP:20230811T083015
DTSTART:20230816T160000
DTEND:20230816T170000
SUMMARY:Regional Transportation Commission ** Special Meeting **
DESCRIPTION:<div><a>Add to my Calendar</a></div><div><p data-uw-styling-context="true"><a href="https://www.carsoncity.gov/government/city-meetings" data-uw-styling-context="true">Livestream</a></p><p data-uw-styling-context="true"><a href="https://www.carsoncity.gov/home/showpublisheddocument/86731/638273389999530000" target="_blank">August 16, 2023 RTC Special Meeting Agenda Only</a></p><p data-uw-styling-context="true"><a href="https://www.carsoncity.gov/home/showpublisheddocument/86735/638273393546330000" target="_blank"><a href="https://www.carsoncity.gov/home/showpublisheddocument/86735/638273393546330000" target="_blank">August 16, 2023 RTC</a><a href="https://www.carsoncity.gov/home/showpublisheddocument/86735/638273393546330000" target="_blank">&nbsp;Special Meeting</a>&nbsp;</a><a href="https://www.carsoncity.gov/home/showpublisheddocument/86735/638273393546330000" target="_blank">Agenda &amp; Supporting Materials</a></p></div>
X-ALT-DESC;FMTTYPE=text/html:<div><a>Add to my Calendar</a></div><div><p data-uw-styling-context="true"><a href="https://www.carsoncity.gov/government/city-meetings" data-uw-styling-context="true">Livestream</a></p><p data-uw-styling-context="true"><a href="https://www.carsoncity.gov/home/showpublisheddocument/86731/638273389999530000" target="_blank">August 16, 2023 RTC Special Meeting Agenda Only</a></p><p data-uw-styling-context="true"><a href="https://www.carsoncity.gov/home/showpublisheddocument/86735/638273393546330000" target="_blank"><a href="https://www.carsoncity.gov/home/showpublisheddocument/86735/638273393546330000" target="_blank">August 16, 2023 RTC</a><a href="https://www.carsoncity.gov/home/showpublisheddocument/86735/638273393546330000" target="_blank">&nbsp;Special Meeting</a>&nbsp;</a><a href="https://www.carsoncity.gov/home/showpublisheddocument/86735/638273393546330000" target="_blank">Agenda &amp; Supporting Materials</a></p></div>
LOCATION:Community Center\, Robert "Bob" Crowell Board Room\, 851 East William Street Carson City\, Nevada 89701
CLASS:PUBLIC
END:VEVENT
END:VCALENDAR
