BEGIN:VCALENDAR
VERSION:2.0
PRODID:Carson City Calendar Creator
METHOD:PUBLISH
BEGIN:VEVENT
DTSTAMP:20230821T120337
DTSTART:20230822T173000
DTEND:20230822T193000
SUMMARY:Parent Education Night
DESCRIPTION:<div x11i5rnm="" xat24cr="" x1mh8g0r="" x1vvkbs="" x126k92a"=""><div dir="auto">Tuesday, August 22nd, from 5:30pm-7:30pm, Carson City Juvenile Services is hosting another Parent Education Night! This night will go in more in-depth on bringing awareness and intervention tools for high-risk behaviors among the youth in our community! </div></div><div xat24cr="" x1mh8g0r="" x1vvkbs="" xtlvy1s="" x126k92a"=""><div dir="auto">Snacks and drinks will be provided during the event!</div></div><div xat24cr="" x1mh8g0r="" x1vvkbs="" xtlvy1s="" x126k92a"=""><div dir="auto">We hope to see you there!</div></div>
X-ALT-DESC;FMTTYPE=text/html:<div x11i5rnm="" xat24cr="" x1mh8g0r="" x1vvkbs="" x126k92a"=""><div dir="auto">Tuesday, August 22nd, from 5:30pm-7:30pm, Carson City Juvenile Services is hosting another Parent Education Night! This night will go in more in-depth on bringing awareness and intervention tools for high-risk behaviors among the youth in our community! </div></div><div xat24cr="" x1mh8g0r="" x1vvkbs="" xtlvy1s="" x126k92a"=""><div dir="auto">Snacks and drinks will be provided during the event!</div></div><div xat24cr="" x1mh8g0r="" x1vvkbs="" xtlvy1s="" x126k92a"=""><div dir="auto">We hope to see you there!</div></div>
LOCATION:Carson City Juvenile Services: Probation Office\, 740 S. Saliman Road Carson City\, Nevada 89701
CLASS:PUBLIC
END:VEVENT
END:VCALENDAR
