BEGIN:VCALENDAR
VERSION:2.0
PRODID:Carson City Calendar Creator
METHOD:PUBLISH
BEGIN:VEVENT
DTSTAMP:20231207T134838
DTSTART:20231213T163000
DTEND:20231213T190000
SUMMARY:Carson Area Metropolitan Planning Organization
DESCRIPTION:<p><a href="https://www.carsoncity.gov/government/departments-g-z/public-works/transportation/rtc-and-campo-agendas/campo-agendas" target="_blank"><a href="https://www.carsoncity.gov/home/showpublisheddocument/87899/638375518546830000" target="_blank">December 13, 2023 CAMPO Meeting</a></a></p>
X-ALT-DESC;FMTTYPE=text/html:<p><a href="https://www.carsoncity.gov/government/departments-g-z/public-works/transportation/rtc-and-campo-agendas/campo-agendas" target="_blank"><a href="https://www.carsoncity.gov/home/showpublisheddocument/87899/638375518546830000" target="_blank">December 13, 2023 CAMPO Meeting</a></a></p>
LOCATION:Community Center\, Robert "Bob" Crowell Board Room\, 851 East William Street Carson City\, Nevada 89701
CLASS:PUBLIC
END:VEVENT
END:VCALENDAR
