BEGIN:VCALENDAR
VERSION:2.0
PRODID:Carson City Calendar Creator
METHOD:PUBLISH
BEGIN:VEVENT
DTSTAMP:20240104T120942
DTSTART:20231213T163000
DTEND:20231213T190000
SUMMARY:Regional Transportation Commission
DESCRIPTION:<p><a href="https://www.carsoncity.gov/?navid=6204">Webcast and Agenda with Supporting Materials</a></p>
X-ALT-DESC;FMTTYPE=text/html:<p><a href="https://www.carsoncity.gov/?navid=6204">Webcast and Agenda with Supporting Materials</a></p>
LOCATION:Community Center\, Robert "Bob" Crowell Board Room\, 851 East William Street Carson City\, Nevada 89701
CLASS:PUBLIC
END:VEVENT
END:VCALENDAR
