BEGIN:VCALENDAR
VERSION:2.0
PRODID:Carson City Calendar Creator
METHOD:PUBLISH
BEGIN:VEVENT
DTSTAMP:20230829T155507
DTSTART:20230905T160000
DTEND:20230905T235900
SUMMARY:Planning Commission
DESCRIPTION:<a href="https://www.carsoncity.gov/government/city-meetings-live-broadcast-and-archives/agendas/planning-commission-agendas-with-supporting-materials/2023-planning-commission-agenda-with-supporting-materials/9-05-2023-planning-commission-agenda-with-supporting-material">9.05.2023 Planning Commission Agenda with Supporting Material</a>
X-ALT-DESC;FMTTYPE=text/html:<a href="https://www.carsoncity.gov/government/city-meetings-live-broadcast-and-archives/agendas/planning-commission-agendas-with-supporting-materials/2023-planning-commission-agenda-with-supporting-materials/9-05-2023-planning-commission-agenda-with-supporting-material">9.05.2023 Planning Commission Agenda with Supporting Material</a>
LOCATION:Community Center\, Robert "Bob" Crowell Board Room\, 851 East William Street Carson City\, Nevada 89701
CLASS:PUBLIC
END:VEVENT
END:VCALENDAR
