BEGIN:VCALENDAR
VERSION:2.0
PRODID:Carson City Calendar Creator
METHOD:PUBLISH
BEGIN:VEVENT
DTSTAMP:20230830T141440
DTSTART:20230912T173000
DTEND:20230912T193000
SUMMARY:Parent Education Night (Spanish)
DESCRIPTION:<p>Esta presentación proporciona información básica sobre los cigarrillos electrónicos y los productos de vapeo, el alcance de la epidemia de vapeo juvenil, los efectos a corto y largo plazo del vapeo, y explica cómo hablar con sus hijos y proporciona recursos para dejar los productos de tabaco, incluidos los cigarrillos electronoicos.</p><p><i>(This presentation provides basic information about e-cigarettes &amp; vaping products, the extent of the youth vaping epidemic, short- and long-term effects of vaping, and explains how to talk to your children and provides resources for quitting tobacco products including electronic cigarettes.)</i></p><p>Para confirmar su asistencia o si tiene alguna pregunta, comuníquese con Azucena Ledezma Rubio (Suzie) al 775-283-7201 o envíe un correo electrónico a CCHHSTobacco@carsoncity.gov.</p><p><em>(To RSVP or if you have any questions, please contact Azucena Ledezma Rubio (Suzie) at 775-283-7201 or email CCHHSTobacco@carsoncity.gov.)</em></p>
X-ALT-DESC;FMTTYPE=text/html:<p>Esta presentación proporciona información básica sobre los cigarrillos electrónicos y los productos de vapeo, el alcance de la epidemia de vapeo juvenil, los efectos a corto y largo plazo del vapeo, y explica cómo hablar con sus hijos y proporciona recursos para dejar los productos de tabaco, incluidos los cigarrillos electronoicos.</p><p><i>(This presentation provides basic information about e-cigarettes &amp; vaping products, the extent of the youth vaping epidemic, short- and long-term effects of vaping, and explains how to talk to your children and provides resources for quitting tobacco products including electronic cigarettes.)</i></p><p>Para confirmar su asistencia o si tiene alguna pregunta, comuníquese con Azucena Ledezma Rubio (Suzie) al 775-283-7201 o envíe un correo electrónico a CCHHSTobacco@carsoncity.gov.</p><p><em>(To RSVP or if you have any questions, please contact Azucena Ledezma Rubio (Suzie) at 775-283-7201 or email CCHHSTobacco@carsoncity.gov.)</em></p>
LOCATION:Carson City Juvenile Services: Probation Office\, 740 S. Saliman Road Carson City\, Nevada 89701
CLASS:PUBLIC
END:VEVENT
END:VCALENDAR
