BEGIN:VCALENDAR
VERSION:2.0
PRODID:Carson City Calendar Creator
METHOD:PUBLISH
BEGIN:VEVENT
DTSTAMP:20230912T092226
DTSTART:20230919T173000
DTEND:20230919T203000
SUMMARY:Advisory Board to Manage Wildlife
DESCRIPTION:<p><a href="https://www.carsoncity.gov/home/showpublisheddocument/87034/638300277065970000" target="_blank">September 19, 2023 Meeting Agenda&nbsp;</a></p><p>Draft Minutes</p><p><a href="https://www.carsoncity.gov/home/showpublisheddocument/87066/638301066377400000" target="_blank">Supporting Materials</a></p>
X-ALT-DESC;FMTTYPE=text/html:<p><a href="https://www.carsoncity.gov/home/showpublisheddocument/87034/638300277065970000" target="_blank">September 19, 2023 Meeting Agenda&nbsp;</a></p><p>Draft Minutes</p><p><a href="https://www.carsoncity.gov/home/showpublisheddocument/87066/638301066377400000" target="_blank">Supporting Materials</a></p>
LOCATION:Community Center Bonanza Room\, 851 East William Street Carson City\, Nevada 89701
CLASS:PUBLIC
END:VEVENT
END:VCALENDAR
