BEGIN:VCALENDAR
VERSION:2.0
PRODID:Carson City Calendar Creator
METHOD:PUBLISH
BEGIN:VEVENT
DTSTAMP:20230901T101835
DTSTART:20230908T160000
DTEND:20230908T210000
SUMMARY:Historic Resources Commission
DESCRIPTION:<p><a href="https://www.carsoncity.gov/government/city-meetings-live-broadcast-and-archives/agendas/historic-resources-commission-agendas-with-supporting-materials/9-08-2023-historic-resources-commission-agenda-with-supporting-material">9.08.2023 HRC Agenda with Supporting Material</a></p><p><a href="https://www.carsoncity.gov/our-city/city-meetings-agendas-minutes-and-broadcast">Webcast</a></p>
X-ALT-DESC;FMTTYPE=text/html:<p><a href="https://www.carsoncity.gov/government/city-meetings-live-broadcast-and-archives/agendas/historic-resources-commission-agendas-with-supporting-materials/9-08-2023-historic-resources-commission-agenda-with-supporting-material">9.08.2023 HRC Agenda with Supporting Material</a></p><p><a href="https://www.carsoncity.gov/our-city/city-meetings-agendas-minutes-and-broadcast">Webcast</a></p>
LOCATION:Community Center\, Robert "Bob" Crowell Board Room\, 851 East William Street Carson City\, Nevada 89701
CLASS:PUBLIC
END:VEVENT
END:VCALENDAR
