BEGIN:VCALENDAR
VERSION:2.0
PRODID:Carson City Calendar Creator
METHOD:PUBLISH
BEGIN:VEVENT
DTSTAMP:20230911T075047
DTSTART:20230914T000000
DTEND:20230914T235900
SUMMARY:Library Board of Trustees Meeting
DESCRIPTION:<a href="https://carsoncitylibrary.org/board-meetings/" target="_blank">Agenda with Supporting Materials</a>
X-ALT-DESC;FMTTYPE=text/html:<a href="https://carsoncitylibrary.org/board-meetings/" target="_blank">Agenda with Supporting Materials</a>
LOCATION:Community Center Bonanza Room\, 851 East William Street Carson City\, Nevada 89701
CLASS:PUBLIC
END:VEVENT
END:VCALENDAR
