BEGIN:VCALENDAR
VERSION:2.0
PRODID:Carson City Calendar Creator
METHOD:PUBLISH
BEGIN:VEVENT
DTSTAMP:20230912T073519
DTSTART:20230927T173000
DTEND:20230927T193000
SUMMARY:Shining Light on Youth and Mental Health
DESCRIPTION:<p>Carson City Juvenile Services is hosting an event about bringing awareness to our youth and mental health. This event, there are seven different partnerships with mental health organizations who serve Carson City's rural community for the youth. </p><p>&nbsp;</p><p>For more information about this event, contact Michelle Entz at 775-283-7640 or mentz@carsoncity.gov.&nbsp;</p>
X-ALT-DESC;FMTTYPE=text/html:<p>Carson City Juvenile Services is hosting an event about bringing awareness to our youth and mental health. This event, there are seven different partnerships with mental health organizations who serve Carson City's rural community for the youth. </p><p>&nbsp;</p><p>For more information about this event, contact Michelle Entz at 775-283-7640 or mentz@carsoncity.gov.&nbsp;</p>
LOCATION:Carson City Sheriff's Office Ormsby Room\, 911 East Musser Street Carson City\, Nevada 89701
CLASS:PUBLIC
END:VEVENT
END:VCALENDAR
