BEGIN:VCALENDAR
VERSION:2.0
PRODID:Carson City Calendar Creator
METHOD:PUBLISH
BEGIN:VEVENT
DTSTAMP:20230925T105829
DTSTART:20231002T173000
DTEND:20231002T233000
SUMMARY:Redevelopment Authority Citizens Committee
DESCRIPTION:<p><a href="https://www.carsoncity.gov/our-city/city-meetings-agendas-minutes-and-broadcast">Webcast&nbsp;</a></p><p><a href="https://www.carsoncity.gov/government/city-meetings-live-broadcast-and-archives/agendas/redevelopment-authority-citizens-committee-agendas-with-supporting-materials/2023-agendas-with-supporting-materials/10-02-2023-agenda-with-supporting-material">&nbsp;10.02.2023 Agenda with Supporting Material&nbsp;</a></p>
X-ALT-DESC;FMTTYPE=text/html:<p><a href="https://www.carsoncity.gov/our-city/city-meetings-agendas-minutes-and-broadcast">Webcast&nbsp;</a></p><p><a href="https://www.carsoncity.gov/government/city-meetings-live-broadcast-and-archives/agendas/redevelopment-authority-citizens-committee-agendas-with-supporting-materials/2023-agendas-with-supporting-materials/10-02-2023-agenda-with-supporting-material">&nbsp;10.02.2023 Agenda with Supporting Material&nbsp;</a></p>
LOCATION:
CLASS:PUBLIC
END:VEVENT
END:VCALENDAR
