BEGIN:VCALENDAR
VERSION:2.0
PRODID:Carson City Calendar Creator
METHOD:PUBLISH
BEGIN:VEVENT
DTSTAMP:20230928T163414
DTSTART:20231026T160000
DTEND:20231026T190000
SUMMARY:BOOnanza
DESCRIPTION:Sponsored by Southwest Gas, PCC Structurals, and Carson City Toyota, this is a free, family-friendly community event where  businesses and organizations decorate booths so families can trick-or-treat to each booth. The event will run from 4pm-7pm on Thursday, October 26th at Mills Park. Don't forget to dress up and to vote for the best decorated booth!
X-ALT-DESC;FMTTYPE=text/html:Sponsored by Southwest Gas, PCC Structurals, and Carson City Toyota, this is a free, family-friendly community event where  businesses and organizations decorate booths so families can trick-or-treat to each booth. The event will run from 4pm-7pm on Thursday, October 26th at Mills Park. Don't forget to dress up and to vote for the best decorated booth!
LOCATION:Mills Park\, 1111 E. Williams Street Carson City\, Nevada 89701
CLASS:PUBLIC
END:VEVENT
END:VCALENDAR
