BEGIN:VCALENDAR
VERSION:2.0
PRODID:Carson City Calendar Creator
METHOD:PUBLISH
BEGIN:VEVENT
DTSTAMP:20251022T153009
DTSTART:20231002T000000
DTEND:20231002T235900
SUMMARY:Reminder-Property Tax Due
DESCRIPTION:<p><strong>ON MONDAY, OCTOBER 2, 2023 THE SECOND INSTALLMENT OF THE FISCAL YEAR 2023-2024 Real Property Taxes</strong>&nbsp;are due and payable in the office of the Carson City Treasurer, located inside City Hall, 201 N. Carson Street Suite #5.&nbsp;If not paid within ten (10) days of October 2, 2023 (on or before October 12, 2023), taxes will become delinquent, and penalties will be added.</p><p>For your convenience, you can make a payment online at&nbsp;<a href="https://protect-us.mimecast.com/s/FpWfCjRV2qfjzNrzS1pNMg?domain=carsoncitynv.devnetwedge.com/" target="_blank">www.carsoncity.gov</a>.</p><p><strong><i><u>If you already made a payment, please disregard this notice.</u></i></strong></p>
X-ALT-DESC;FMTTYPE=text/html:<p><strong>ON MONDAY, OCTOBER 2, 2023 THE SECOND INSTALLMENT OF THE FISCAL YEAR 2023-2024 Real Property Taxes</strong>&nbsp;are due and payable in the office of the Carson City Treasurer, located inside City Hall, 201 N. Carson Street Suite #5.&nbsp;If not paid within ten (10) days of October 2, 2023 (on or before October 12, 2023), taxes will become delinquent, and penalties will be added.</p><p>For your convenience, you can make a payment online at&nbsp;<a href="https://protect-us.mimecast.com/s/FpWfCjRV2qfjzNrzS1pNMg?domain=carsoncitynv.devnetwedge.com/" target="_blank">www.carsoncity.gov</a>.</p><p><strong><i><u>If you already made a payment, please disregard this notice.</u></i></strong></p>
LOCATION:City Hall\, 201 N Carson St #5 Carson City\, Nevada 89701
CLASS:PUBLIC
END:VEVENT
END:VCALENDAR
