BEGIN:VCALENDAR
VERSION:2.0
PRODID:Carson City Calendar Creator
METHOD:PUBLISH
BEGIN:VEVENT
DTSTAMP:20231016T070316
DTSTART:20231019T173000
DTEND:20231019T193000
SUMMARY:Parent Education Night (Spanish)
DESCRIPTION:ÚNASE A NOSOTROS PARA UNA NOCHE INFORMATIVA SOBRE EL CONSUMO DE SUSTANCIAS ENTRE NUESTROS JÓVENES<br>Este evento profundizará sobre el uso de sustancias con nuestros jóvenes en la comunidad. Brindará a los padres/tutores/miembros de la comunidad la oportunidad de aprender más sobre las sustancias y cómo ser proactivos con sus jóvenes. Si desea obtener más información sobre cómo hablar con sus jóvenes sobre el uso de sustancias y las conductas de alto riesgo, ¡esta noche es para usted!<br>ESTA PRESENTACIÓN SERÁ EN ESPAÑOL!<br><div></div><p>&nbsp;</p><p>(JOIN US FOR AN INFORMATIONAL NIGHT ON SUBSTANCE USE AMONG OUR YOUTH<br>This event will delve deeper into substance use with our youth in the community. It will provide parents/guardians/community members the opportunity to learn more about substances and how to be proactive with their youth. If you want to learn more about how to talk to your youth about substance use and high-risk behaviors, tonight is for you!<br>THIS PRESENTATION WILL BE IN SPANISH!)</p>
X-ALT-DESC;FMTTYPE=text/html:ÚNASE A NOSOTROS PARA UNA NOCHE INFORMATIVA SOBRE EL CONSUMO DE SUSTANCIAS ENTRE NUESTROS JÓVENES<br>Este evento profundizará sobre el uso de sustancias con nuestros jóvenes en la comunidad. Brindará a los padres/tutores/miembros de la comunidad la oportunidad de aprender más sobre las sustancias y cómo ser proactivos con sus jóvenes. Si desea obtener más información sobre cómo hablar con sus jóvenes sobre el uso de sustancias y las conductas de alto riesgo, ¡esta noche es para usted!<br>ESTA PRESENTACIÓN SERÁ EN ESPAÑOL!<br><div></div><p>&nbsp;</p><p>(JOIN US FOR AN INFORMATIONAL NIGHT ON SUBSTANCE USE AMONG OUR YOUTH<br>This event will delve deeper into substance use with our youth in the community. It will provide parents/guardians/community members the opportunity to learn more about substances and how to be proactive with their youth. If you want to learn more about how to talk to your youth about substance use and high-risk behaviors, tonight is for you!<br>THIS PRESENTATION WILL BE IN SPANISH!)</p>
LOCATION:Carson City Juvenile Services: Probation Office\, 740 S. Saliman Road Carson City\, Nevada 89701
CLASS:PUBLIC
END:VEVENT
END:VCALENDAR
