BEGIN:VCALENDAR
VERSION:2.0
PRODID:Carson City Calendar Creator
METHOD:PUBLISH
BEGIN:VEVENT
DTSTAMP:20231016T070610
DTSTART:20231030T173000
DTEND:20231030T193000
SUMMARY:Parent Education Night
DESCRIPTION:<p>This presentation provides basic information about e-cigarettes &amp; vaping products, the extent of the youth vaping epidemic, short- and long-term effects of vaping. This event will also explain how to talk to your children and provide resources for quitting tobacco products including electronic cigarettes.</p><p>&nbsp;This presentation will be in English.&nbsp;</p><p>&nbsp;</p><p>(Esta presentación proporciona información básica sobre los cigarrillos electrónicos y los productos de vapeo, el alcance de la epidemia de vapeo entre jóvenes y los efectos del vapeo a corto y largo plazo. Este evento también explicará cómo hablar con sus hijos y brindará recursos para dejar los productos de tabaco, incluidos los cigarrillos electrónicos.</p><p>Esta presentación será en inglés.)</p>
X-ALT-DESC;FMTTYPE=text/html:<p>This presentation provides basic information about e-cigarettes &amp; vaping products, the extent of the youth vaping epidemic, short- and long-term effects of vaping. This event will also explain how to talk to your children and provide resources for quitting tobacco products including electronic cigarettes.</p><p>&nbsp;This presentation will be in English.&nbsp;</p><p>&nbsp;</p><p>(Esta presentación proporciona información básica sobre los cigarrillos electrónicos y los productos de vapeo, el alcance de la epidemia de vapeo entre jóvenes y los efectos del vapeo a corto y largo plazo. Este evento también explicará cómo hablar con sus hijos y brindará recursos para dejar los productos de tabaco, incluidos los cigarrillos electrónicos.</p><p>Esta presentación será en inglés.)</p>
LOCATION:Carson City Juvenile Services: Probation Office\, 740 S. Saliman Road Carson City\, Nevada 89701
CLASS:PUBLIC
END:VEVENT
END:VCALENDAR
