BEGIN:VCALENDAR
VERSION:2.0
PRODID:Carson City Calendar Creator
METHOD:PUBLISH
BEGIN:VEVENT
DTSTAMP:20231031T084614
DTSTART:20231031T173000
DTEND:20231031T193000
SUMMARY:CANCELLED-Advisory Board to Manage Wildlife
DESCRIPTION:<p><a href="https://www.carsoncity.gov/home/showpublisheddocument/87603/638336695561270000" target="_blank">October 31, 2023 Meeting Agenda</a></p><p><a href="https://www.carsoncity.gov/home/showpublisheddocument/87601/638336695180770000" target="_blank">Board Packet</a></p>
X-ALT-DESC;FMTTYPE=text/html:<p><a href="https://www.carsoncity.gov/home/showpublisheddocument/87603/638336695561270000" target="_blank">October 31, 2023 Meeting Agenda</a></p><p><a href="https://www.carsoncity.gov/home/showpublisheddocument/87601/638336695180770000" target="_blank">Board Packet</a></p>
LOCATION:Community Center Bonanza Room\, 851 East William Street Carson City\, Nevada 89701
CLASS:PUBLIC
END:VEVENT
END:VCALENDAR
