BEGIN:VCALENDAR
VERSION:2.0
PRODID:Carson City Calendar Creator
METHOD:PUBLISH
BEGIN:VEVENT
DTSTAMP:20231019T132337
DTSTART:20231025T133000
DTEND:20231025T143000
SUMMARY:Administrative Hearing
DESCRIPTION:<a href="https://www.carsoncity.gov/government/city-meetings-live-broadcast-and-archives/agendas/administrative-permit-review-agendas-with-supporting-materials/2023-agenda-with-supporting-materials/10-25-2023-administrative-hearing-agenda-with-supporting-materials">10.25.2023 Agenda with Supporting Material</a>
X-ALT-DESC;FMTTYPE=text/html:<a href="https://www.carsoncity.gov/government/city-meetings-live-broadcast-and-archives/agendas/administrative-permit-review-agendas-with-supporting-materials/2023-agenda-with-supporting-materials/10-25-2023-administrative-hearing-agenda-with-supporting-materials">10.25.2023 Agenda with Supporting Material</a>
LOCATION:Community Development\, Conference Room "A"\, 108 E. Proctor Street Carson City\, Nevada 89701
CLASS:PUBLIC
END:VEVENT
END:VCALENDAR
