BEGIN:VCALENDAR
VERSION:2.0
PRODID:Carson City Calendar Creator
METHOD:PUBLISH
BEGIN:VEVENT
DTSTAMP:20231108T145752
DTSTART:20231115T133000
DTEND:20231115T173000
SUMMARY:Other Post Employment Benefits Trust Fund Board of Trustees
DESCRIPTION:<p><a href="https://www.carsoncity.gov/government/city-meetings-live-broadcast-and-archives/agendas/other-post-employment-benefits-trust-fund-board-of-trustees-agendas-with-supporting-materials">Agenda with Supporting Materials</a></p><p><a href="https://www.carsoncity.gov/government/city-meetings">Webcast</a></p>
X-ALT-DESC;FMTTYPE=text/html:<p><a href="https://www.carsoncity.gov/government/city-meetings-live-broadcast-and-archives/agendas/other-post-employment-benefits-trust-fund-board-of-trustees-agendas-with-supporting-materials">Agenda with Supporting Materials</a></p><p><a href="https://www.carsoncity.gov/government/city-meetings">Webcast</a></p>
LOCATION:Community Center\, Robert "Bob" Crowell Board Room\, 851 East William Street Carson City\, Nevada 89701
CLASS:PUBLIC
END:VEVENT
END:VCALENDAR
