BEGIN:VCALENDAR
VERSION:2.0
PRODID:Carson City Calendar Creator
METHOD:PUBLISH
BEGIN:VEVENT
DTSTAMP:20231122T085923
DTSTART:20240108T160000
DTEND:20240108T235900
SUMMARY:Carson City Culture & Tourism Authority
DESCRIPTION:<a href="https://visitcarsoncity.com/travel-industry/meetings/" target="_blank">Click here to view agendas &amp; meeting information.</a><br><br><a href="https://www.carsoncity.gov/government/city-meetings">Click here to view meeting webcast.</a><br><br>For more information call (775) 687-7410.
X-ALT-DESC;FMTTYPE=text/html:<a href="https://visitcarsoncity.com/travel-industry/meetings/" target="_blank">Click here to view agendas &amp; meeting information.</a><br><br><a href="https://www.carsoncity.gov/government/city-meetings">Click here to view meeting webcast.</a><br><br>For more information call (775) 687-7410.
LOCATION:
CLASS:PUBLIC
END:VEVENT
END:VCALENDAR
