BEGIN:VCALENDAR
VERSION:2.0
PRODID:Carson City Calendar Creator
METHOD:PUBLISH
BEGIN:VEVENT
DTSTAMP:20240411T172532
DTSTART:20240418T083000
DTEND:20240418T235900
SUMMARY:Board of Supervisors Meeting
DESCRIPTION:<a href="https://www.carsoncity.gov/government/city-meetings">Webcast and Agenda with Supporting Materials</a>
X-ALT-DESC;FMTTYPE=text/html:<a href="https://www.carsoncity.gov/government/city-meetings">Webcast and Agenda with Supporting Materials</a>
LOCATION:Community Center\, Robert "Bob" Crowell Board Room\, 851 East William Street Carson City\, Nevada 89701
CLASS:PUBLIC
END:VEVENT
END:VCALENDAR
