BEGIN:VCALENDAR
VERSION:2.0
PRODID:Carson City Calendar Creator
METHOD:PUBLISH
BEGIN:VEVENT
DTSTAMP:20231130T124959
DTSTART:20231216T090000
DTEND:20231216T235900
SUMMARY:Lone Mountain Cemetery - Wreaths across America
DESCRIPTION:<a href="https://www.wreathsacrossamerica.org/" target="_blank">Link to Wreaths across America website for more information.</a>
X-ALT-DESC;FMTTYPE=text/html:<a href="https://www.wreathsacrossamerica.org/" target="_blank">Link to Wreaths across America website for more information.</a>
LOCATION:Lone Mountain Cemetery\, 1044 Beverly Drive Carson City\, Nevada 89706
CLASS:PUBLIC
END:VEVENT
END:VCALENDAR
