BEGIN:VCALENDAR
VERSION:2.0
PRODID:Carson City Calendar Creator
METHOD:PUBLISH
BEGIN:VEVENT
DTSTAMP:20240104T155034
DTSTART:20240110T163500
DTEND:20240110T190000
SUMMARY:Regional Transportation Commission
DESCRIPTION:<p><a href="https://www.carsoncity.gov/home/showpublisheddocument/88092/638399790864470000" target="_blank"><a href="https://www.carsoncity.gov/government/city-meetings">Webcast and Agenda with Supporting Materials</a></a></p>
X-ALT-DESC;FMTTYPE=text/html:<p><a href="https://www.carsoncity.gov/home/showpublisheddocument/88092/638399790864470000" target="_blank"><a href="https://www.carsoncity.gov/government/city-meetings">Webcast and Agenda with Supporting Materials</a></a></p>
LOCATION:Community Center\, Robert "Bob" Crowell Board Room\, 851 East William Street Carson City\, Nevada 89701
CLASS:PUBLIC
END:VEVENT
END:VCALENDAR
