BEGIN:VCALENDAR
VERSION:2.0
PRODID:Carson City Calendar Creator
METHOD:PUBLISH
BEGIN:VEVENT
DTSTAMP:20231210T133904
DTSTART:20231214T173000
DTEND:20231214T183000
SUMMARY:Carson City Library Board of Trustees Meeting
DESCRIPTION:<a href="https://carsoncitylibrary.org/board-meetings/" target="_blank">Agenda with Supporting Materials</a>
X-ALT-DESC;FMTTYPE=text/html:<a href="https://carsoncitylibrary.org/board-meetings/" target="_blank">Agenda with Supporting Materials</a>
LOCATION:Carson City Community Center\, 851 E William St Carson City\, Nevada 89701
CLASS:PUBLIC
END:VEVENT
END:VCALENDAR
