BEGIN:VCALENDAR
VERSION:2.0
PRODID:Carson City Calendar Creator
METHOD:PUBLISH
BEGIN:VEVENT
DTSTAMP:20240116T161834
DTSTART:20240122T173000
DTEND:20240122T200000
SUMMARY:Advisory Board to Manage Wildlife
DESCRIPTION:<p><a href="https://www.carsoncity.gov/government/city-meetings">Webcast and Agenda with Supporting Materials</a></p><p><strong>Agenda:&nbsp;</strong><a href="https://www.carsoncity.gov/home/showpublisheddocument/88161/638410043983730000" target="_blank">1-22-2024 Advisory Board to Manage Wildlife</a>&nbsp;</p>
X-ALT-DESC;FMTTYPE=text/html:<p><a href="https://www.carsoncity.gov/government/city-meetings">Webcast and Agenda with Supporting Materials</a></p><p><strong>Agenda:&nbsp;</strong><a href="https://www.carsoncity.gov/home/showpublisheddocument/88161/638410043983730000" target="_blank">1-22-2024 Advisory Board to Manage Wildlife</a>&nbsp;</p>
LOCATION:Community Center\, Robert "Bob" Crowell Board Room\, 851 East William Street Carson City\, Nevada 89701
CLASS:PUBLIC
END:VEVENT
END:VCALENDAR
